BEGIN:VCALENDAR
VERSION:2.0
PRODID:-//Roe Green Church - ECPv6.15.20//NONSGML v1.0//EN
CALSCALE:GREGORIAN
METHOD:PUBLISH
X-WR-CALNAME:Roe Green Church
X-ORIGINAL-URL:https://roegreenchurch.co.uk
X-WR-CALDESC:Events for Roe Green Church
REFRESH-INTERVAL;VALUE=DURATION:PT1H
X-Robots-Tag:noindex
X-PUBLISHED-TTL:PT1H
BEGIN:VTIMEZONE
TZID:UTC
BEGIN:STANDARD
TZOFFSETFROM:+0000
TZOFFSETTO:+0000
TZNAME:UTC
DTSTART:20250101T000000
END:STANDARD
END:VTIMEZONE
BEGIN:VEVENT
DTSTART;TZID=UTC:20260301T103000
DTEND;TZID=UTC:20260301T120000
DTSTAMP:20260423T205352
CREATED:20260201T205744Z
LAST-MODIFIED:20260201T205744Z
UID:1393-1772361000-1772366400@roegreenchurch.co.uk
SUMMARY:Sunday Gathering
DESCRIPTION:Join us as we meet in fellowship to worship\, pray\, and study the Bible together! \nWe believe that the Sunday Gatherings is not just a meeting that is done out of habit or as a ritual\, but as genuine service to God\, where we take some time to encounter Him as a part of His family\, and intentionally pray for His leading. As one body with many parts\, we work to encourage one other in our calling\, and help each other grow in our spiritual gifts. \nThe Bible-based messages and sermons shared during these gatherings are aimed at helping people dive deeper into the Bible\, and gain a better understanding of who God is\, and how our relationship with God can grow and impact our lives and the lives of the people around us. \nOur Sunday Gatherings are always followed by a time of fellowship – a time to catch up over a cup of tea and some cake.
URL:https://roegreenchurch.co.uk/event/sunday-gathering-4/
LOCATION:Roe Green Church Hall
CATEGORIES:Sunday Service
END:VEVENT
BEGIN:VEVENT
DTSTART;TZID=UTC:20260302T100000
DTEND;TZID=UTC:20260302T120000
DTSTAMP:20260423T205352
CREATED:20260201T205434Z
LAST-MODIFIED:20260201T205434Z
UID:1383-1772445600-1772452800@roegreenchurch.co.uk
SUMMARY:Coffee Morning
DESCRIPTION:Stop by the Roe Green Church hall for a hot beverage and some biscuits every Monday morning at 10:00 am! \nThere is no entry fee\, but donations are welcome.
URL:https://roegreenchurch.co.uk/event/coffee-morning-5/
LOCATION:Roe Green Church Hall
CATEGORIES:Coffee Morning
ATTACH;FMTTYPE=image/jpeg:https://roegreenchurch.co.uk/wp-content/uploads/2024/10/IMG-20220421-WA0005-768x1024-1-edited-e1739647902964.jpg
END:VEVENT
BEGIN:VEVENT
DTSTART;TZID=UTC:20260303T093000
DTEND;TZID=UTC:20260303T231500
DTSTAMP:20260423T205352
CREATED:20260201T210111Z
LAST-MODIFIED:20260201T210111Z
UID:1404-1772530200-1772579700@roegreenchurch.co.uk
SUMMARY:Toddler Group
DESCRIPTION:Bring your little ones (ages 0-4) for a morning of fun activities and play! \nEntry fee: £3.50 \nNo advance sign up is required. Refreshments are provided.
URL:https://roegreenchurch.co.uk/event/toddler-group-5/
LOCATION:Roe Green Church Hall
CATEGORIES:Mums and Tots
ATTACH;FMTTYPE=image/jpeg:https://roegreenchurch.co.uk/wp-content/uploads/2024/10/PXL_20220517_100355688.PORTRAIT-01-768x576-1-edited.jpeg
END:VEVENT
BEGIN:VEVENT
DTSTART;TZID=UTC:20260308T103000
DTEND;TZID=UTC:20260308T120000
DTSTAMP:20260423T205352
CREATED:20260201T205808Z
LAST-MODIFIED:20260201T205808Z
UID:1397-1772965800-1772971200@roegreenchurch.co.uk
SUMMARY:Sunday Gathering
DESCRIPTION:Join us as we meet in fellowship to worship\, pray\, and study the Bible together! \nWe believe that the Sunday Gatherings is not just a meeting that is done out of habit or as a ritual\, but as genuine service to God\, where we take some time to encounter Him as a part of His family\, and intentionally pray for His leading. As one body with many parts\, we work to encourage one other in our calling\, and help each other grow in our spiritual gifts. \nThe Bible-based messages and sermons shared during these gatherings are aimed at helping people dive deeper into the Bible\, and gain a better understanding of who God is\, and how our relationship with God can grow and impact our lives and the lives of the people around us. \nOur Sunday Gatherings are always followed by a time of fellowship – a time to catch up over a cup of tea and some cake.
URL:https://roegreenchurch.co.uk/event/sunday-gathering-5/
LOCATION:Roe Green Church Hall
CATEGORIES:Sunday Service
END:VEVENT
BEGIN:VEVENT
DTSTART;TZID=UTC:20260309T100000
DTEND;TZID=UTC:20260309T120000
DTSTAMP:20260423T205352
CREATED:20260201T205519Z
LAST-MODIFIED:20260201T205519Z
UID:1384-1773050400-1773057600@roegreenchurch.co.uk
SUMMARY:Coffee Morning
DESCRIPTION:Stop by the Roe Green Church hall for a hot beverage and some biscuits every Monday morning at 10:00 am! \nThere is no entry fee\, but donations are welcome.
URL:https://roegreenchurch.co.uk/event/coffee-morning-6/
LOCATION:Roe Green Church Hall
CATEGORIES:Coffee Morning
ATTACH;FMTTYPE=image/jpeg:https://roegreenchurch.co.uk/wp-content/uploads/2024/10/IMG-20220421-WA0005-768x1024-1-edited-e1739647902964.jpg
END:VEVENT
BEGIN:VEVENT
DTSTART;TZID=UTC:20260310T093000
DTEND;TZID=UTC:20260310T231500
DTSTAMP:20260423T205352
CREATED:20260201T210402Z
LAST-MODIFIED:20260201T210402Z
UID:1411-1773135000-1773184500@roegreenchurch.co.uk
SUMMARY:Toddler Group
DESCRIPTION:Bring your little ones (ages 0-4) for a morning of fun activities and play!  \nEntry fee: £3.50 \nNo advance sign up is required. Refreshments are provided.
URL:https://roegreenchurch.co.uk/event/toddler-group-8/
LOCATION:Roe Green Church Hall
CATEGORIES:Mums and Tots
ATTACH;FMTTYPE=image/jpeg:https://roegreenchurch.co.uk/wp-content/uploads/2024/10/PXL_20220517_100355688.PORTRAIT-01-768x576-1-edited.jpeg
END:VEVENT
BEGIN:VEVENT
DTSTART;TZID=UTC:20260315T103000
DTEND;TZID=UTC:20260315T120000
DTSTAMP:20260423T205352
CREATED:20260201T205830Z
LAST-MODIFIED:20260201T205830Z
UID:1396-1773570600-1773576000@roegreenchurch.co.uk
SUMMARY:Sunday Gathering
DESCRIPTION:Join us as we meet in fellowship to worship\, pray\, and study the Bible together! \nWe believe that the Sunday Gatherings is not just a meeting that is done out of habit or as a ritual\, but as genuine service to God\, where we take some time to encounter Him as a part of His family\, and intentionally pray for His leading. As one body with many parts\, we work to encourage one other in our calling\, and help each other grow in our spiritual gifts. \nThe Bible-based messages and sermons shared during these gatherings are aimed at helping people dive deeper into the Bible\, and gain a better understanding of who God is\, and how our relationship with God can grow and impact our lives and the lives of the people around us. \nOur Sunday Gatherings are always followed by a time of fellowship – a time to catch up over a cup of tea and some cake.
URL:https://roegreenchurch.co.uk/event/sunday-gathering-6/
LOCATION:Roe Green Church Hall
CATEGORIES:Sunday Service
END:VEVENT
BEGIN:VEVENT
DTSTART;TZID=UTC:20260316T100000
DTEND;TZID=UTC:20260316T120000
DTSTAMP:20260423T205352
CREATED:20260201T205541Z
LAST-MODIFIED:20260201T205541Z
UID:1387-1773655200-1773662400@roegreenchurch.co.uk
SUMMARY:Coffee Morning
DESCRIPTION:Stop by the Roe Green Church hall for a hot beverage and some biscuits every Monday morning at 10:00 am! \nThere is no entry fee\, but donations are welcome.
URL:https://roegreenchurch.co.uk/event/coffee-morning-7/
LOCATION:Roe Green Church Hall
CATEGORIES:Coffee Morning
ATTACH;FMTTYPE=image/jpeg:https://roegreenchurch.co.uk/wp-content/uploads/2024/10/IMG-20220421-WA0005-768x1024-1-edited-e1739647902964.jpg
END:VEVENT
BEGIN:VEVENT
DTSTART;TZID=UTC:20260317T093000
DTEND;TZID=UTC:20260317T231500
DTSTAMP:20260423T205352
CREATED:20260201T210140Z
LAST-MODIFIED:20260201T210140Z
UID:1405-1773739800-1773789300@roegreenchurch.co.uk
SUMMARY:Toddler Group
DESCRIPTION:Bring your little ones (ages 0-4) for a morning of fun activities and play! \nEntry fee: £3.50 \nNo advance sign up is required. Refreshments are provided.
URL:https://roegreenchurch.co.uk/event/toddler-group-6/
LOCATION:Roe Green Church Hall
CATEGORIES:Mums and Tots
ATTACH;FMTTYPE=image/jpeg:https://roegreenchurch.co.uk/wp-content/uploads/2024/10/PXL_20220517_100355688.PORTRAIT-01-768x576-1-edited.jpeg
END:VEVENT
BEGIN:VEVENT
DTSTART;TZID=UTC:20260322T103000
DTEND;TZID=UTC:20260322T120000
DTSTAMP:20260423T205352
CREATED:20260201T205928Z
LAST-MODIFIED:20260201T205928Z
UID:1394-1774175400-1774180800@roegreenchurch.co.uk
SUMMARY:Sunday Gathering
DESCRIPTION:Join us as we meet in fellowship to worship\, pray\, and study the Bible together! \nWe believe that the Sunday Gatherings is not just a meeting that is done out of habit or as a ritual\, but as genuine service to God\, where we take some time to encounter Him as a part of His family\, and intentionally pray for His leading. As one body with many parts\, we work to encourage one other in our calling\, and help each other grow in our spiritual gifts. \nThe Bible-based messages and sermons shared during these gatherings are aimed at helping people dive deeper into the Bible\, and gain a better understanding of who God is\, and how our relationship with God can grow and impact our lives and the lives of the people around us. \nOur Sunday Gatherings are always followed by a time of fellowship – a time to catch up over a cup of tea and some cake.
URL:https://roegreenchurch.co.uk/event/sunday-gathering-8/
LOCATION:Roe Green Church Hall
CATEGORIES:Sunday Service
END:VEVENT
BEGIN:VEVENT
DTSTART;TZID=UTC:20260323T100000
DTEND;TZID=UTC:20260323T120000
DTSTAMP:20260423T205352
CREATED:20260201T205604Z
LAST-MODIFIED:20260201T205604Z
UID:1386-1774260000-1774267200@roegreenchurch.co.uk
SUMMARY:Coffee Morning
DESCRIPTION:Stop by the Roe Green Church hall for a hot beverage and some biscuits every Monday morning at 10:00 am! \nThere is no entry fee\, but donations are welcome.
URL:https://roegreenchurch.co.uk/event/coffee-morning-8/
LOCATION:Roe Green Church Hall
CATEGORIES:Coffee Morning
ATTACH;FMTTYPE=image/jpeg:https://roegreenchurch.co.uk/wp-content/uploads/2024/10/IMG-20220421-WA0005-768x1024-1-edited-e1739647902964.jpg
END:VEVENT
BEGIN:VEVENT
DTSTART;TZID=UTC:20260324T093000
DTEND;TZID=UTC:20260324T231500
DTSTAMP:20260423T205352
CREATED:20260201T210204Z
LAST-MODIFIED:20260201T210429Z
UID:1406-1774344600-1774394100@roegreenchurch.co.uk
SUMMARY:Toddler Group
DESCRIPTION:Bring your little ones (ages 0-4) for a morning of fun activities and play! \nEntry fee: £3.50 \nNo advance sign up is required. Refreshments are provided.
URL:https://roegreenchurch.co.uk/event/toddler-group-7/
LOCATION:Roe Green Church Hall
CATEGORIES:Mums and Tots
ATTACH;FMTTYPE=image/jpeg:https://roegreenchurch.co.uk/wp-content/uploads/2024/10/PXL_20220517_100355688.PORTRAIT-01-768x576-1-edited.jpeg
END:VEVENT
BEGIN:VEVENT
DTSTART;TZID=UTC:20260329T103000
DTEND;TZID=UTC:20260329T120000
DTSTAMP:20260423T205352
CREATED:20260201T205852Z
LAST-MODIFIED:20260201T205852Z
UID:1395-1774780200-1774785600@roegreenchurch.co.uk
SUMMARY:Sunday Gathering
DESCRIPTION:Join us as we meet in fellowship to worship\, pray\, and study the Bible together! \nWe believe that the Sunday Gatherings is not just a meeting that is done out of habit or as a ritual\, but as genuine service to God\, where we take some time to encounter Him as a part of His family\, and intentionally pray for His leading. As one body with many parts\, we work to encourage one other in our calling\, and help each other grow in our spiritual gifts. \nThe Bible-based messages and sermons shared during these gatherings are aimed at helping people dive deeper into the Bible\, and gain a better understanding of who God is\, and how our relationship with God can grow and impact our lives and the lives of the people around us. \nOur Sunday Gatherings are always followed by a time of fellowship – a time to catch up over a cup of tea and some cake.
URL:https://roegreenchurch.co.uk/event/sunday-gathering-7/
LOCATION:Roe Green Church Hall
CATEGORIES:Sunday Service
END:VEVENT
BEGIN:VEVENT
DTSTART;TZID=UTC:20260330T100000
DTEND;TZID=UTC:20260330T120000
DTSTAMP:20260423T205352
CREATED:20260201T205627Z
LAST-MODIFIED:20260201T205627Z
UID:1385-1774864800-1774872000@roegreenchurch.co.uk
SUMMARY:Coffee Morning
DESCRIPTION:Stop by the Roe Green Church hall for a hot beverage and some biscuits every Monday morning at 10:00 am! \nThere is no entry fee\, but donations are welcome.
URL:https://roegreenchurch.co.uk/event/coffee-morning-9/
LOCATION:Roe Green Church Hall
CATEGORIES:Coffee Morning
ATTACH;FMTTYPE=image/jpeg:https://roegreenchurch.co.uk/wp-content/uploads/2024/10/IMG-20220421-WA0005-768x1024-1-edited-e1739647902964.jpg
END:VEVENT
BEGIN:VEVENT
DTSTART;TZID=UTC:20260331T093000
DTEND;TZID=UTC:20260331T231500
DTSTAMP:20260423T205352
CREATED:20260201T210513Z
LAST-MODIFIED:20260201T210513Z
UID:1413-1774949400-1774998900@roegreenchurch.co.uk
SUMMARY:Toddler Group
DESCRIPTION:Bring your little ones (ages 0-4) for a morning of fun activities and play! \nEntry fee: £3.50 \nNo advance sign up is required. Refreshments are provided.
URL:https://roegreenchurch.co.uk/event/toddler-group-9/
LOCATION:Roe Green Church Hall
CATEGORIES:Mums and Tots
ATTACH;FMTTYPE=image/jpeg:https://roegreenchurch.co.uk/wp-content/uploads/2024/10/PXL_20220517_100355688.PORTRAIT-01-768x576-1-edited.jpeg
END:VEVENT
END:VCALENDAR