BEGIN:VCALENDAR
VERSION:2.0
PRODID:-//Roe Green Church - ECPv6.15.20//NONSGML v1.0//EN
CALSCALE:GREGORIAN
METHOD:PUBLISH
X-WR-CALNAME:Roe Green Church
X-ORIGINAL-URL:https://roegreenchurch.co.uk
X-WR-CALDESC:Events for Roe Green Church
REFRESH-INTERVAL;VALUE=DURATION:PT1H
X-Robots-Tag:noindex
X-PUBLISHED-TTL:PT1H
BEGIN:VTIMEZONE
TZID:UTC
BEGIN:STANDARD
TZOFFSETFROM:+0000
TZOFFSETTO:+0000
TZNAME:UTC
DTSTART:20250101T000000
END:STANDARD
END:VTIMEZONE
BEGIN:VEVENT
DTSTART;TZID=UTC:20260202T100000
DTEND;TZID=UTC:20260202T120000
DTSTAMP:20260423T234944
CREATED:20241218T200150Z
LAST-MODIFIED:20260201T204923Z
UID:367-1770026400-1770033600@roegreenchurch.co.uk
SUMMARY:Coffee Morning
DESCRIPTION:
URL:https://roegreenchurch.co.uk/event/coffee-morning-4/
LOCATION:Roe Green Church Hall
ATTACH;FMTTYPE=image/jpeg:https://roegreenchurch.co.uk/wp-content/uploads/2024/10/IMG-20220421-WA0005-768x1024-1-edited-e1739647902964.jpg
END:VEVENT
BEGIN:VEVENT
DTSTART;TZID=UTC:20260203T093000
DTEND;TZID=UTC:20260203T231500
DTSTAMP:20260423T234944
CREATED:20250102T233809Z
LAST-MODIFIED:20260201T205227Z
UID:372-1770111000-1770160500@roegreenchurch.co.uk
SUMMARY:Toddler Group
DESCRIPTION:Bring your little ones (ages 0-4) for a morning of fun activities and play!  \nEntry fee: £3.50 \nNo advance sign up is required. Refreshments are provided.
URL:https://roegreenchurch.co.uk/event/toddler-group/
LOCATION:Roe Green Church Hall
CATEGORIES:Mums and Tots
ATTACH;FMTTYPE=image/jpeg:https://roegreenchurch.co.uk/wp-content/uploads/2024/10/PXL_20220517_100355688.PORTRAIT-01-768x576-1-edited.jpeg
END:VEVENT
BEGIN:VEVENT
DTSTART;TZID=UTC:20260208T103000
DTEND;TZID=UTC:20260208T120000
DTSTAMP:20260423T234944
CREATED:20250324T141836Z
LAST-MODIFIED:20260201T204857Z
UID:905-1770546600-1770552000@roegreenchurch.co.uk
SUMMARY:Sunday Gathering
DESCRIPTION:Join us as we meet in fellowship to worship\, pray\, and study the Bible together! \nWe believe that the Sunday Gatherings is not just a meeting that is done out of habit or as a ritual\, but as genuine service to God\, where we take some time to encounter Him as a part of His family\, and intentionally pray for His leading. As one body with many parts\, we work to encourage one other in our calling\, and help each other grow in our spiritual gifts. \nThe Bible-based messages and sermons shared during these gatherings are aimed at helping people dive deeper into the Bible\, and gain a better understanding of who God is\, and how our relationship with God can grow and impact our lives and the lives of the people around us. \nOur Sunday Gatherings are always followed by a time of fellowship – a time to catch up over a cup of tea and some cake.
URL:https://roegreenchurch.co.uk/event/sunday-gathering-3/
LOCATION:Roe Green Church Hall
CATEGORIES:Sunday Service
ATTACH;FMTTYPE=image/jpeg:https://roegreenchurch.co.uk/wp-content/uploads/2025/09/JESUS-2.jpg
END:VEVENT
BEGIN:VEVENT
DTSTART;TZID=UTC:20260209T100000
DTEND;TZID=UTC:20260209T120000
DTSTAMP:20260423T234944
CREATED:20250220T142926Z
LAST-MODIFIED:20260201T204942Z
UID:458-1770631200-1770638400@roegreenchurch.co.uk
SUMMARY:Coffee Morning
DESCRIPTION:
URL:https://roegreenchurch.co.uk/event/coffee-morning-2/
LOCATION:Roe Green Church Hall
CATEGORIES:Coffee Morning
ATTACH;FMTTYPE=image/jpeg:https://roegreenchurch.co.uk/wp-content/uploads/2024/10/IMG-20220421-WA0005-768x1024-1-edited-e1739647902964.jpg
END:VEVENT
BEGIN:VEVENT
DTSTART;TZID=UTC:20260210T093000
DTEND;TZID=UTC:20260210T231500
DTSTAMP:20260423T234944
CREATED:20250422T101334Z
LAST-MODIFIED:20260201T205252Z
UID:1113-1770715800-1770765300@roegreenchurch.co.uk
SUMMARY:Toddler Group
DESCRIPTION:Bring your little ones (ages 0-4) for a morning of fun activities and play! \nEntry fee: £3.50 \nNo advance sign up is required. Refreshments are provided.
URL:https://roegreenchurch.co.uk/event/toddler-group-copy/
LOCATION:Roe Green Church Hall
CATEGORIES:Mums and Tots
ATTACH;FMTTYPE=image/jpeg:https://roegreenchurch.co.uk/wp-content/uploads/2024/10/PXL_20220517_100355688.PORTRAIT-01-768x576-1-edited.jpeg
END:VEVENT
BEGIN:VEVENT
DTSTART;TZID=UTC:20260215T103000
DTEND;TZID=UTC:20260215T120000
DTSTAMP:20260423T234944
CREATED:20250324T140522Z
LAST-MODIFIED:20260201T205117Z
UID:901-1771151400-1771156800@roegreenchurch.co.uk
SUMMARY:Sunday Gathering
DESCRIPTION:Join us as we meet in fellowship to worship\, pray\, and study the Bible together! \nWe believe that the Sunday Gatherings is not just a meeting that is done out of habit or as a ritual\, but as genuine service to God\, where we take some time to encounter Him as a part of His family\, and intentionally pray for His leading. As one body with many parts\, we work to encourage one other in our calling\, and help each other grow in our spiritual gifts. \nThe Bible-based messages and sermons shared during these gatherings are aimed at helping people dive deeper into the Bible\, and gain a better understanding of who God is\, and how our relationship with God can grow and impact our lives and the lives of the people around us. \nOur Sunday Gatherings are always followed by a time of fellowship – a time to catch up over a cup of tea and some cake.
URL:https://roegreenchurch.co.uk/event/sunday-gathering-2/
LOCATION:Roe Green Church Hall
CATEGORIES:Sunday Service
ATTACH;FMTTYPE=image/jpeg:https://roegreenchurch.co.uk/wp-content/uploads/2025/09/JESUS-2.jpg
END:VEVENT
BEGIN:VEVENT
DTSTART;TZID=UTC:20260216T100000
DTEND;TZID=UTC:20260216T120000
DTSTAMP:20260423T234944
CREATED:20250304T171958Z
LAST-MODIFIED:20260201T205004Z
UID:539-1771236000-1771243200@roegreenchurch.co.uk
SUMMARY:Coffee Morning
DESCRIPTION:Stop by the Roe Green Church hall for a hot beverage and some biscuits every Monday morning at 10:00 am! \nThere is no entry fee\, but donations are welcome.
URL:https://roegreenchurch.co.uk/event/coffee-morning/
LOCATION:Roe Green Church Hall
CATEGORIES:Coffee Morning
ATTACH;FMTTYPE=image/jpeg:https://roegreenchurch.co.uk/wp-content/uploads/2024/10/IMG-20220421-WA0005-768x1024-1-edited-e1739647902964.jpg
END:VEVENT
BEGIN:VEVENT
DTSTART;TZID=UTC:20260217T093000
DTEND;TZID=UTC:20260217T231500
DTSTAMP:20260423T234944
CREATED:20250928T144910Z
LAST-MODIFIED:20260201T205315Z
UID:1334-1771320600-1771370100@roegreenchurch.co.uk
SUMMARY:Toddler Group
DESCRIPTION:Bring your little ones (ages 0-4) for a morning of fun activities and play! \nEntry fee: £3.50 \nNo advance sign up is required. Refreshments are provided.
URL:https://roegreenchurch.co.uk/event/toddler-group-2/
LOCATION:Roe Green Church Hall
CATEGORIES:Mums and Tots
ATTACH;FMTTYPE=image/jpeg:https://roegreenchurch.co.uk/wp-content/uploads/2024/10/PXL_20220517_100355688.PORTRAIT-01-768x576-1-edited.jpeg
END:VEVENT
BEGIN:VEVENT
DTSTART;TZID=UTC:20260222T103000
DTEND;TZID=UTC:20260222T120000
DTSTAMP:20260423T234944
CREATED:20241005T142814Z
LAST-MODIFIED:20260201T205158Z
UID:53-1771756200-1771761600@roegreenchurch.co.uk
SUMMARY:Sunday Gathering
DESCRIPTION:Join us as we meet in fellowship to worship\, pray\, and study the Bible together! \nWe believe that the Sunday Gatherings is not just a meeting that is done out of habit or as a ritual\, but as genuine service to God\, where we take some time to encounter Him as a part of His family\, and intentionally pray for His leading. As one body with many parts\, we work to encourage one other in our calling\, and help each other grow in our spiritual gifts. \nThe Bible-based messages and sermons shared during these gatherings are aimed at helping people dive deeper into the Bible\, and gain a better understanding of who God is\, and how our relationship with God can grow and impact our lives and the lives of the people around us. \nOur Sunday Gatherings are always followed by a time of fellowship – a time to catch up over a cup of tea and some cake.
URL:https://roegreenchurch.co.uk/event/sunday-service/
LOCATION:Roe Green Church Hall
CATEGORIES:Sunday Service
END:VEVENT
BEGIN:VEVENT
DTSTART;TZID=UTC:20260223T100000
DTEND;TZID=UTC:20260223T120000
DTSTAMP:20260423T234944
CREATED:20250220T143734Z
LAST-MODIFIED:20260201T205028Z
UID:466-1771840800-1771848000@roegreenchurch.co.uk
SUMMARY:Coffee Morning
DESCRIPTION:Stop by the Roe Green Church hall for a hot beverage and some biscuits every Monday morning at 10:00 am! \nThere is no entry fee\, but donations are welcome.
URL:https://roegreenchurch.co.uk/event/coffee-morning-3/
LOCATION:Roe Green Church Hall
CATEGORIES:Coffee Morning
ATTACH;FMTTYPE=image/jpeg:https://roegreenchurch.co.uk/wp-content/uploads/2024/10/IMG-20220421-WA0005-768x1024-1-edited-e1739647902964.jpg
END:VEVENT
BEGIN:VEVENT
DTSTART;TZID=UTC:20260224T093000
DTEND;TZID=UTC:20260224T231500
DTSTAMP:20260423T234944
CREATED:20260201T210046Z
LAST-MODIFIED:20260201T210046Z
UID:1403-1771925400-1771974900@roegreenchurch.co.uk
SUMMARY:Toddler Group
DESCRIPTION:Bring your little ones (ages 0-4) for a morning of fun activities and play! \nEntry fee: £3.50 \nNo advance sign up is required. Refreshments are provided.
URL:https://roegreenchurch.co.uk/event/toddler-group-4/
LOCATION:Roe Green Church Hall
CATEGORIES:Mums and Tots
ATTACH;FMTTYPE=image/jpeg:https://roegreenchurch.co.uk/wp-content/uploads/2024/10/PXL_20220517_100355688.PORTRAIT-01-768x576-1-edited.jpeg
END:VEVENT
END:VCALENDAR