BEGIN:VCALENDAR
VERSION:2.0
PRODID:-//Roe Green Church - ECPv6.15.20//NONSGML v1.0//EN
CALSCALE:GREGORIAN
METHOD:PUBLISH
X-ORIGINAL-URL:https://roegreenchurch.co.uk
X-WR-CALDESC:Events for Roe Green Church
REFRESH-INTERVAL;VALUE=DURATION:PT1H
X-Robots-Tag:noindex
X-PUBLISHED-TTL:PT1H
BEGIN:VTIMEZONE
TZID:UTC
BEGIN:STANDARD
TZOFFSETFROM:+0000
TZOFFSETTO:+0000
TZNAME:UTC
DTSTART:20240101T000000
END:STANDARD
END:VTIMEZONE
BEGIN:VEVENT
DTSTART;TZID=UTC:20251104T093000
DTEND;TZID=UTC:20251104T231500
DTSTAMP:20260424T024407
CREATED:20250310T115814Z
LAST-MODIFIED:20251027T140147Z
UID:684-1762248600-1762298100@roegreenchurch.co.uk
SUMMARY:Toddler Group
DESCRIPTION:Bring your little ones (ages 0-4) for a morning of fun activities and play! \nEntry fee: £3.50 \nNo advance sign up is required. Refreshments are provided.
URL:https://roegreenchurch.co.uk/event/toddler-group-3/
LOCATION:Roe Green Church Hall
CATEGORIES:Mums and Tots
ATTACH;FMTTYPE=image/jpeg:https://roegreenchurch.co.uk/wp-content/uploads/2024/10/PXL_20220517_100355688.PORTRAIT-01-768x576-1-edited.jpeg
END:VEVENT
BEGIN:VEVENT
DTSTART;TZID=UTC:20251104T193000
DTEND;TZID=UTC:20251104T213000
DTSTAMP:20260424T024407
CREATED:20250220T143259Z
LAST-MODIFIED:20251027T141711Z
UID:462-1762284600-1762291800@roegreenchurch.co.uk
SUMMARY:Prayer and Worship Evening
DESCRIPTION:
URL:https://roegreenchurch.co.uk/event/prayer-and-worship-evening/
CATEGORIES:Prayer and Worship
END:VEVENT
BEGIN:VEVENT
DTSTART;TZID=UTC:20251109T103000
DTEND;TZID=UTC:20251109T120000
DTSTAMP:20260424T024407
CREATED:20241218T200426Z
LAST-MODIFIED:20251027T123754Z
UID:369-1762684200-1762689600@roegreenchurch.co.uk
SUMMARY:Sunday Gathering - Remembrance Sunday
DESCRIPTION:Join us as we meet in fellowship to worship\, pray\, and study the Bible together! \nWe believe that the Sunday Gatherings is not just a meeting that is done out of habit or as a ritual\, but as genuine service to God\, where we take some time to encounter Him as a part of His family\, and intentionally pray for His leading. As one body with many parts\, we work to encourage one other in our calling\, and help each other grow in our spiritual gifts.  \nThe Bible-based messages and sermons shared during these gatherings are aimed at helping people dive deeper into the Bible\, and gain a better understanding of who God is\, and how our relationship with God can grow and impact our lives and the lives of the people around us. This week\, Russell Gurbutt will share the Word of God with us as we observe our Remembrance Sunday Service.  \nOur Sunday Gatherings are always followed by a time of fellowship – a time to catch up over a cup of tea and some cake. \n 
URL:https://roegreenchurch.co.uk/event/sunday-service-2/
LOCATION:Roe Green Church Hall
CATEGORIES:Sunday Service
END:VEVENT
BEGIN:VEVENT
DTSTART;TZID=UTC:20251111T193000
DTEND;TZID=UTC:20251111T213000
DTSTAMP:20260424T024407
CREATED:20250324T142112Z
LAST-MODIFIED:20251027T141623Z
UID:908-1762889400-1762896600@roegreenchurch.co.uk
SUMMARY:Bible Study Group
DESCRIPTION:Join us every alternate Tuesday to study the Bible together\, and encounter God through His Word. We currently run two Bible Study Groups: \nBible Study Group A –  The Acts of the Apostles. \nBible Study Group B – The Gospel of John \nPlease contact us via leadership@roegreenchurch.co.uk for further details.
URL:https://roegreenchurch.co.uk/event/bible-study-group-3/
CATEGORIES:Bible Study
ATTACH;FMTTYPE=image/jpeg:https://roegreenchurch.co.uk/wp-content/uploads/2024/10/Study-edited-1.jpg
END:VEVENT
BEGIN:VEVENT
DTSTART;TZID=UTC:20251116T123000
DTEND;TZID=UTC:20251116T130000
DTSTAMP:20260424T024407
CREATED:20241127T211555Z
LAST-MODIFIED:20251027T140021Z
UID:308-1763296200-1763298000@roegreenchurch.co.uk
SUMMARY:Street Prayer
DESCRIPTION:Join us on our street prayer campaign\, as we pray together for the residents on Roe Green. We invite you to join us in prayer for this beautiful village. If you have any prayer requests\, you can email us at leadership@roegreenchurch.co.uk. You are also welcome to join us on September 14th\, from 12:30-13:00\, in prayer (after the Sunday Gathering). \nGod bless\, and we hope to see you there!
URL:https://roegreenchurch.co.uk/event/street-prayer/
LOCATION:Roe Green Church
CATEGORIES:Prayer Campaign
ATTACH;FMTTYPE=image/jpeg:https://roegreenchurch.co.uk/wp-content/uploads/2025/03/online-edited.jpg
END:VEVENT
END:VCALENDAR