BEGIN:VCALENDAR
VERSION:2.0
PRODID:-//Roe Green Church - ECPv6.15.20//NONSGML v1.0//EN
CALSCALE:GREGORIAN
METHOD:PUBLISH
X-WR-CALNAME:Roe Green Church
X-ORIGINAL-URL:https://roegreenchurch.co.uk
X-WR-CALDESC:Events for Roe Green Church
REFRESH-INTERVAL;VALUE=DURATION:PT1H
X-Robots-Tag:noindex
X-PUBLISHED-TTL:PT1H
BEGIN:VTIMEZONE
TZID:UTC
BEGIN:STANDARD
TZOFFSETFROM:+0000
TZOFFSETTO:+0000
TZNAME:UTC
DTSTART:20240101T000000
END:STANDARD
END:VTIMEZONE
BEGIN:VEVENT
DTSTART;TZID=UTC:20251028T193000
DTEND;TZID=UTC:20251028T213000
DTSTAMP:20260424T040925
CREATED:20241005T143004Z
LAST-MODIFIED:20250928T150417Z
UID:59-1761679800-1761687000@roegreenchurch.co.uk
SUMMARY:Bible Study Group
DESCRIPTION:Join us every alternate Tuesday to study the Bible together\, and encounter God through His Word. We currently run two Bible Study Groups: \nBible Study Groups  \n–  The Acts of the Apostles. \n – The Gospel of John \nPlease contact us via leadership@roegreenchurch.co.uk for further details.
URL:https://roegreenchurch.co.uk/event/bible-study-group/
CATEGORIES:Bible Study
ATTACH;FMTTYPE=image/jpeg:https://roegreenchurch.co.uk/wp-content/uploads/2024/10/Study-edited-1.jpg
END:VEVENT
END:VCALENDAR