BEGIN:VCALENDAR
VERSION:2.0
PRODID:-//Roe Green Church - ECPv6.15.20//NONSGML v1.0//EN
CALSCALE:GREGORIAN
METHOD:PUBLISH
X-WR-CALNAME:Roe Green Church
X-ORIGINAL-URL:https://roegreenchurch.co.uk
X-WR-CALDESC:Events for Roe Green Church
REFRESH-INTERVAL;VALUE=DURATION:PT1H
X-Robots-Tag:noindex
X-PUBLISHED-TTL:PT1H
BEGIN:VTIMEZONE
TZID:UTC
BEGIN:STANDARD
TZOFFSETFROM:+0000
TZOFFSETTO:+0000
TZNAME:UTC
DTSTART:20240101T000000
END:STANDARD
END:VTIMEZONE
BEGIN:VEVENT
DTSTART;TZID=UTC:20251221T103000
DTEND;TZID=UTC:20251221T120000
DTSTAMP:20260424T052522
CREATED:20251129T190248Z
LAST-MODIFIED:20251129T190248Z
UID:1360-1766313000-1766318400@roegreenchurch.co.uk
SUMMARY:Carol Service
DESCRIPTION:A traditional Lessons and Carols Service. All are welcome!
URL:https://roegreenchurch.co.uk/event/carol-service/
CATEGORIES:Sunday Service
END:VEVENT
END:VCALENDAR